BEGIN:VCALENDAR
VERSION:2.0
PRODID:-//PYVOBJECT//NONSGML Version 1//EN
BEGIN:VEVENT
UID:22722:3002
DTSTART:20150709T183000
DTEND:20150709T000000
DESCRIPTION:\n	FP pro Person &euro\; 63.-\n\n	Anmeldung mit Anzahlung bis 0
 1.06.2015\n\n	Erleben Sie Giacomo Puccinis Meisterwerk in einer opulenten 
 Inszenierung auf Europas gr&ouml\;&szlig\;ter Naturb&uuml\;hne! Die Opernd
 iva Floria Tosca und der Maler Mario Cavaradossi Roms gefeiertes Traumpaar
  auf dem H&ouml\;hepunkt seiner brennenden Liebe. Als in einer\n	warmen Ju
 ninacht des Jahres 1800 ein alter Freund Marios aus der Engelsburg entflie
 ht\, beginnt ein hinterh&auml\;ltiger Wettlauf gegen die Zeit und gegen de
 n brutalen Polizeichef Scarpia\, der vier Menschen mit in den Abgrund rei&
 szlig\;t. Schwelgen Sie in Puccinis schw&auml\;rmerischen Melodien und las
 sen Sie sich fesseln von den dramatischen letzten Stunden im Leben der sch
 &ouml\;nen Diva. Ein unvergessliches Erlebnis! Rechtzeitig Karten reservie
 ren!!! Beginn der Oper 21.00 Uhr.\n\n	Leistung:\n\n	\n		Fahrt mit Luxusbus
 \n\n
DTSTAMP:20260425T135424Z
SUMMARY:TAGESFAHRT: St. Margarethen "TOSKA"
END:VEVENT
END:VCALENDAR
